BEGIN:VCALENDAR
VERSION:2.0
PRODID:-//YouStar Foundation - ECPv6.15.20//NONSGML v1.0//EN
CALSCALE:GREGORIAN
METHOD:PUBLISH
X-ORIGINAL-URL:https://youstarfoundation.org
X-WR-CALDESC:YouStar Foundation 이벤트
REFRESH-INTERVAL;VALUE=DURATION:PT1H
X-Robots-Tag:noindex
X-PUBLISHED-TTL:PT1H
BEGIN:VTIMEZONE
TZID:UTC
BEGIN:STANDARD
TZOFFSETFROM:+0000
TZOFFSETTO:+0000
TZNAME:UTC
DTSTART:20250101T000000
END:STANDARD
END:VTIMEZONE
BEGIN:VEVENT
DTSTART;TZID=UTC:20260131T120000
DTEND;TZID=UTC:20260131T140000
DTSTAMP:20260421T134420
CREATED:20260213T043123Z
LAST-MODIFIED:20260213T044822Z
UID:10965-1769860800-1769868000@youstarfoundation.org
SUMMARY:YouStar BOD meeting
DESCRIPTION:
URL:https://youstarfoundation.org/event/youstar-bod-meeting/
END:VEVENT
END:VCALENDAR